BEGIN:VCALENDAR
VERSION:2.0
PRODID:-//Sunset Coast Michigan - ECPv6.15.20//NONSGML v1.0//EN
CALSCALE:GREGORIAN
METHOD:PUBLISH
X-ORIGINAL-URL:https://sunsetcoastmichigan.com
X-WR-CALDESC:Events for Sunset Coast Michigan
REFRESH-INTERVAL;VALUE=DURATION:PT1H
X-Robots-Tag:noindex
X-PUBLISHED-TTL:PT1H
BEGIN:VTIMEZONE
TZID:America/Detroit
BEGIN:DAYLIGHT
TZOFFSETFROM:-0500
TZOFFSETTO:-0400
TZNAME:EDT
DTSTART:20180311T070000
END:DAYLIGHT
BEGIN:STANDARD
TZOFFSETFROM:-0400
TZOFFSETTO:-0500
TZNAME:EST
DTSTART:20181104T060000
END:STANDARD
BEGIN:DAYLIGHT
TZOFFSETFROM:-0500
TZOFFSETTO:-0400
TZNAME:EDT
DTSTART:20190310T070000
END:DAYLIGHT
BEGIN:STANDARD
TZOFFSETFROM:-0400
TZOFFSETTO:-0500
TZNAME:EST
DTSTART:20191103T060000
END:STANDARD
BEGIN:DAYLIGHT
TZOFFSETFROM:-0500
TZOFFSETTO:-0400
TZNAME:EDT
DTSTART:20200308T070000
END:DAYLIGHT
BEGIN:STANDARD
TZOFFSETFROM:-0400
TZOFFSETTO:-0500
TZNAME:EST
DTSTART:20201101T060000
END:STANDARD
BEGIN:DAYLIGHT
TZOFFSETFROM:-0500
TZOFFSETTO:-0400
TZNAME:EDT
DTSTART:20210314T070000
END:DAYLIGHT
BEGIN:STANDARD
TZOFFSETFROM:-0400
TZOFFSETTO:-0500
TZNAME:EST
DTSTART:20211107T060000
END:STANDARD
BEGIN:DAYLIGHT
TZOFFSETFROM:-0500
TZOFFSETTO:-0400
TZNAME:EDT
DTSTART:20220313T070000
END:DAYLIGHT
BEGIN:STANDARD
TZOFFSETFROM:-0400
TZOFFSETTO:-0500
TZNAME:EST
DTSTART:20221106T060000
END:STANDARD
BEGIN:DAYLIGHT
TZOFFSETFROM:-0500
TZOFFSETTO:-0400
TZNAME:EDT
DTSTART:20230312T070000
END:DAYLIGHT
BEGIN:STANDARD
TZOFFSETFROM:-0400
TZOFFSETTO:-0500
TZNAME:EST
DTSTART:20231105T060000
END:STANDARD
BEGIN:DAYLIGHT
TZOFFSETFROM:-0500
TZOFFSETTO:-0400
TZNAME:EDT
DTSTART:20240310T070000
END:DAYLIGHT
BEGIN:STANDARD
TZOFFSETFROM:-0400
TZOFFSETTO:-0500
TZNAME:EST
DTSTART:20241103T060000
END:STANDARD
END:VTIMEZONE
BEGIN:VEVENT
DTSTART;TZID=America/Detroit:20190918T100000
DTEND;TZID=America/Detroit:20190918T150000
DTSTAMP:20260420T130024
CREATED:20190912T144404Z
LAST-MODIFIED:20190912T144657Z
UID:10004490-1568800800-1568818800@sunsetcoastmichigan.com
SUMMARY:Benton Harbor Farmer's Market
DESCRIPTION:In the middle of the Dwight P. Mitchell City Center Park just off of Pipestone\, you will find: fresh produce for purchase\, arts & crafts & games for the kids\, and fitness classes by the YMCA! Jams\, jellies\, fruit\, greens\, and so much more. The market accepts SNAP Bridge Cards\, WIC Project Fresh coupons\, Senior Market Fresh coupons\, and cash. When using your Bridge Card\, you can increase your purchase with Double Up Food Bucks – (for every $2 spent on your Bridge Card\, they’ll give you an extra $2 to spend {up to $20} at the market).
URL:https://sunsetcoastmichigan.com/event/benton-harbor-farmers-market/2019-09-18/
LOCATION:Dwight P. Mitchell City Center Park\, 127 Pipestone\, Benton Harbor\, MI\, 49022\, United States
CATEGORIES:Community Events,Farmer's Markets
GEO:42.1156375;-86.4547998
X-APPLE-STRUCTURED-LOCATION;VALUE=URI;X-ADDRESS=Dwight P. Mitchell City Center Park 127 Pipestone Benton Harbor MI 49022 United States;X-APPLE-RADIUS=500;X-TITLE=127 Pipestone:geo:-86.4547998,42.1156375
END:VEVENT
BEGIN:VEVENT
DTSTART;TZID=America/Detroit:20191012T080000
DTEND;TZID=America/Detroit:20191012T130000
DTSTAMP:20260420T130024
CREATED:20190912T144703Z
LAST-MODIFIED:20190924T221614Z
UID:10004477-1570867200-1570885200@sunsetcoastmichigan.com
SUMMARY:Buchanan Farmer's Market
DESCRIPTION:Buy local\, eat fresh! Fresh produce\, breads and sweets (by Breadsmith)\, coffee (by Rapha Roasters)\, jewelry\, soaps\, yard art\, and more! Spend your Saturday morning in beautiful downtown Buchanan. Vendors such as: Happy Paws Treats Pet Bakery\, Knott Road Hillside Gardens\, Hebron Farms\, and Rolling Acres\, and with booths by local organizations like the United Methodist Church\, Tin Shop Theatre\, and Buchanan Arts Center\, this market is one you’ll frequent every weekend.
URL:https://sunsetcoastmichigan.com/event/buchanan-farmers-market/2019-10-12/
LOCATION:Downtown Buchanan\, 122 Days Ave\, Buchanan\, MI\, 49107\, United States
CATEGORIES:Community Events,Farmer's Markets
ATTACH;FMTTYPE=image/jpeg:https://sunsetcoastmichigan.com/wp-content/uploads/2019/09/farmersmarket-scaled.jpg
GEO:41.8264655;-86.3600683
X-APPLE-STRUCTURED-LOCATION;VALUE=URI;X-ADDRESS=Downtown Buchanan 122 Days Ave Buchanan MI 49107 United States;X-APPLE-RADIUS=500;X-TITLE=122 Days Ave:geo:-86.3600683,41.8264655
END:VEVENT
BEGIN:VEVENT
DTSTART;TZID=America/Detroit:20230913T100000
DTEND;TZID=America/Detroit:20230913T150000
DTSTAMP:20260420T130024
CREATED:20230602T135332Z
LAST-MODIFIED:20230602T135912Z
UID:10009218-1694599200-1694617200@sunsetcoastmichigan.com
SUMMARY:Benton Harbor Farmer's Market 2023
DESCRIPTION:The Benton Harbor Farmers Market is open seasonally every Wednesday during the summer months in the heart of downtown Benton Harbor. The market offers a wide variety of delicious\, locally-grown produce at affordable prices. Help support your local farmers\, economy\, and community by shopping at the Benton Harbor Farmers Market! \nFollow us on Facebook for up-to-date information on market operations\, weekly events\, and what fruits and veggies are in season! \nWe accept SNAP Bridge Cards\, WIC Project FRESH coupons\, Senior Market FRESH coupons\, and cash. If you use your Bridge Card\, you can double your purchasing power with Double Up Food Bucks – for every $2 spent on your Bridge Card\, we’ll give you an extra $2 to spend at the market (up to $20)! \n \nWe gladly welcome new and returning farmers and vendors to the market! Our market focuses on fresh produce\, but encourages other food/goods vendors to the market as well. We won’t charge you any vendor fees and can help get you set up to accept food assistance benefits that are used at the market. Find more information in the Benton Harbor Farmers Market Vendor Handbook\, or give us a call at 269-927-5637.
URL:https://sunsetcoastmichigan.com/event/benton-harbor-farmers-market-2023/2023-09-13/
LOCATION:Dwight P. Mitchell City Center Park\, 127 Pipestone\, Benton Harbor\, MI\, 49022\, United States
CATEGORIES:Artisans & Makers,Farmer's Markets,Food + Drink Events
ATTACH;FMTTYPE=image/png:https://sunsetcoastmichigan.com/wp-content/uploads/2023/06/Document.png
GEO:42.1156375;-86.4547998
X-APPLE-STRUCTURED-LOCATION;VALUE=URI;X-ADDRESS=Dwight P. Mitchell City Center Park 127 Pipestone Benton Harbor MI 49022 United States;X-APPLE-RADIUS=500;X-TITLE=127 Pipestone:geo:-86.4547998,42.1156375
END:VEVENT
BEGIN:VEVENT
DTSTART;TZID=America/Detroit:20230923T150000
DTEND;TZID=America/Detroit:20230923T190000
DTSTAMP:20260420T130024
CREATED:20190919T013310Z
LAST-MODIFIED:20230512T130343Z
UID:10005757-1695481200-1695495600@sunsetcoastmichigan.com
SUMMARY:Village of Three Oaks Farmer's Market
DESCRIPTION:Fresh produce\, fresh flowers\, baked goods\, eggs\, jewelry\, local honey\, maple syrup — all the delicious and delectable staples of a Midwest Farmers Market can be found in the center of town\, every Friday evening until September 29th. Live music brightens up the street as you help support local farms and businesses of Three Oaks and harbor country! See you there!
URL:https://sunsetcoastmichigan.com/event/village-of-three-oaks-farmers-market/2023-09-23/
LOCATION:Downtown Three Oaks\, Three Oaks\, MI\, 49128\, United States
CATEGORIES:Artisans & Makers,Community Events,Farmer's Markets
ATTACH;FMTTYPE=image/jpeg:https://sunsetcoastmichigan.com/wp-content/uploads/2019/07/featured6.jpg
END:VEVENT
BEGIN:VEVENT
DTSTART;TZID=America/Detroit:20230929T050000
DTEND;TZID=America/Detroit:20230929T110000
DTSTAMP:20260420T130024
CREATED:20221016T140205Z
LAST-MODIFIED:20221016T140205Z
UID:10009054-1695963600-1695985200@sunsetcoastmichigan.com
SUMMARY:Saugatuck Farmer's & Artisan's Market 2023
DESCRIPTION:Join us and shop our seasonal market\, where local farmers offer freshly-picked fruits and vegetables and enjoy a wide variety of artisan baked goods\, all-natural honey\, maple syrup\, farm fresh eggs\, duck eggs\, cheeses\, meats \, gourmet mushrooms and small batch custom coffees. There will also be healthy snacks\, greens\, preserves\, gluten-free\, vegan\, dips\, dog treats and much\, much more! \nWe’ll have music in the background\, food to go from local vendors. Don’t forget to visit our cash bar. \nThe Saugatuck Center for the Arts is West Michigan’s lakeshore destination for experiencing the joy of professional theater and music\, life-changing education for children and adults\, and substantive dialogue. We are a community asset\, a collaborative partner\, and are deeply committed to building a stronger\, more vibrant regional arts & cultural landscape.
URL:https://sunsetcoastmichigan.com/event/saugatuck-farmers-artisans-market-2023/2023-09-29/
LOCATION:Saugatuck Center for the Arts\, 400 Culver St.\, Saugatuck\, MI\, 49453\, United States
CATEGORIES:Artisans & Makers,Community Events,Farmer's Markets
ATTACH;FMTTYPE=image/jpeg:https://sunsetcoastmichigan.com/wp-content/uploads/2022/10/280414178_545541060477962_2682008359378810278_n.jpeg
ORGANIZER;CN="Saugatuck Center for the Arts":MAILTO:info@sc4a.org
GEO:42.6554272;-86.2014746
X-APPLE-STRUCTURED-LOCATION;VALUE=URI;X-ADDRESS=Saugatuck Center for the Arts 400 Culver St. Saugatuck MI 49453 United States;X-APPLE-RADIUS=500;X-TITLE=400 Culver St.:geo:-86.2014746,42.6554272
END:VEVENT
BEGIN:VEVENT
DTSTART;TZID=America/Detroit:20231007T090000
DTEND;TZID=America/Detroit:20231007T140000
DTSTAMP:20260420T130024
CREATED:20190726T141259Z
LAST-MODIFIED:20221016T134259Z
UID:10004453-1696669200-1696687200@sunsetcoastmichigan.com
SUMMARY:St. Joseph Michigan Farmer's Market 2023
DESCRIPTION:Southwest Michigan is the 2nd most agriculturally diverse climate in America\, and our farmer’s markets reflect that.  The Saint Joseph Farmer’s Market is one of the best.  Saturday mornings from late May through mid-October\, you can grab ripe\, succulent fruits and vegetables\, and also jams\, honey\, hearth-baked breads and fine pastries\, perennials\, cut flowers\, organic vegetables and many other fun things. \nThe vendors there love to chat and share their recipes\, planting recommendations and cooking tips. Also\, plan to visit with several friends since the number of people attending this weekly event has continued to grow over the last few years. It’s a Saturday tradition!
URL:https://sunsetcoastmichigan.com/event/st-joseph-michigan-farmers-market/2023-10-07/
LOCATION:The Bluff in St. Joseph\, Lake Blvd\, Saint Joseph\, MI\, 49085\, United States
CATEGORIES:Community Events,Farmer's Markets
ATTACH;FMTTYPE=image/jpeg:https://sunsetcoastmichigan.com/wp-content/uploads/2019/07/Farmers_Market_logo.jpg
ORGANIZER;CN="Saint Joseph Today":MAILTO:info@stjoetoday.com
GEO:42.105326;-86.4867409
X-APPLE-STRUCTURED-LOCATION;VALUE=URI;X-ADDRESS=The Bluff in St. Joseph Lake Blvd Saint Joseph MI 49085 United States;X-APPLE-RADIUS=500;X-TITLE=Lake Blvd:geo:-86.4867409,42.105326
END:VEVENT
BEGIN:VEVENT
DTSTART;TZID=America/Detroit:20231015T050000
DTEND;TZID=America/Detroit:20231015T110000
DTSTAMP:20260420T130024
CREATED:20221016T135155Z
LAST-MODIFIED:20221016T135155Z
UID:10009035-1697346000-1697367600@sunsetcoastmichigan.com
SUMMARY:Bridgman Open Air Market 2023
DESCRIPTION:Founded in 2017 by a local farmer and his wife who wanted a way to sell produce to their community\, the Bridgman Open-Air Market is becoming one of the largest and well-attended community markets in the region. Come join us every Sunday during the warm season to shop for the best locally grown produce\, flowers and locally made art and crafts. You never know what you’ll find! \n 
URL:https://sunsetcoastmichigan.com/event/bridgman-open-air-market-2023/2023-10-15/
LOCATION:Downtown Bridgman Michigan\, 4509 Lake Street\, Bridgman\, MI\, 49106\, United States
CATEGORIES:Artisans & Makers,Community Events,Farmer's Markets
ATTACH;FMTTYPE=image/jpeg:https://sunsetcoastmichigan.com/wp-content/uploads/2022/10/Bridgman-Open-Air-Market.jpeg
ORGANIZER;CN="Bridgman Open-Air Market":MAILTO:bridgmanopenairmarket@gmail.com
GEO:41.9431517;-86.5628245
X-APPLE-STRUCTURED-LOCATION;VALUE=URI;X-ADDRESS=Downtown Bridgman Michigan 4509 Lake Street Bridgman MI 49106 United States;X-APPLE-RADIUS=500;X-TITLE=4509 Lake Street:geo:-86.5628245,41.9431517
END:VEVENT
BEGIN:VEVENT
DTSTART;TZID=America/Detroit:20231029T080000
DTEND;TZID=America/Detroit:20231029T140000
DTSTAMP:20260420T130024
CREATED:20221016T134130Z
LAST-MODIFIED:20221016T134130Z
UID:10008999-1698566400-1698588000@sunsetcoastmichigan.com
SUMMARY:South Haven Farm Market 2023
DESCRIPTION:The South Haven Farm Market has been an important part of our community for many years.  It provides a direct link between the agricultural community and people who value fresh\, local produce and farm products! Located downtown at the Huron St. Pavilion\, the Market runs from 8am-2pm Saturdays from May – October\, Wednesdays June – August and 3 Evening Markets. \nAgriculture is an important part of our local heritage\, and we believe it is important to support our local growers and to introduce both local residents and visitors alike to fresh produce\, meats\, cheese\, flowers\, herbs\, plants\, etc.\, grown and produced locally. This provides an important revenue stream for local growers.
URL:https://sunsetcoastmichigan.com/event/south-haven-farm-market-2023/2023-10-29/
LOCATION:Huron Street Pavilion\, 539 Huron Street\, South Haven\, MI\, 49090\, United States
CATEGORIES:Artisans & Makers,Community Events,Farmer's Markets
ATTACH;FMTTYPE=image/jpeg:https://sunsetcoastmichigan.com/wp-content/uploads/2022/10/34F7DEDA-B3D1-459D-9BBA-99A36D7327CC.jpeg
ORGANIZER;CN="South Haven Farm Market":MAILTO:SHfarmmarket@gmail.com
GEO:42.4021079;-86.271941
X-APPLE-STRUCTURED-LOCATION;VALUE=URI;X-ADDRESS=Huron Street Pavilion 539 Huron Street South Haven MI 49090 United States;X-APPLE-RADIUS=500;X-TITLE=539 Huron Street:geo:-86.271941,42.4021079
END:VEVENT
END:VCALENDAR