BEGIN:VCALENDAR
VERSION:2.0
PRODID:-//Sunset Coast Michigan - ECPv6.15.20//NONSGML v1.0//EN
CALSCALE:GREGORIAN
METHOD:PUBLISH
X-ORIGINAL-URL:https://sunsetcoastmichigan.com
X-WR-CALDESC:Events for Sunset Coast Michigan
REFRESH-INTERVAL;VALUE=DURATION:PT1H
X-Robots-Tag:noindex
X-PUBLISHED-TTL:PT1H
BEGIN:VTIMEZONE
TZID:America/Detroit
BEGIN:DAYLIGHT
TZOFFSETFROM:-0500
TZOFFSETTO:-0400
TZNAME:EDT
DTSTART:20210314T070000
END:DAYLIGHT
BEGIN:STANDARD
TZOFFSETFROM:-0400
TZOFFSETTO:-0500
TZNAME:EST
DTSTART:20211107T060000
END:STANDARD
BEGIN:DAYLIGHT
TZOFFSETFROM:-0500
TZOFFSETTO:-0400
TZNAME:EDT
DTSTART:20220313T070000
END:DAYLIGHT
BEGIN:STANDARD
TZOFFSETFROM:-0400
TZOFFSETTO:-0500
TZNAME:EST
DTSTART:20221106T060000
END:STANDARD
BEGIN:DAYLIGHT
TZOFFSETFROM:-0500
TZOFFSETTO:-0400
TZNAME:EDT
DTSTART:20230312T070000
END:DAYLIGHT
BEGIN:STANDARD
TZOFFSETFROM:-0400
TZOFFSETTO:-0500
TZNAME:EST
DTSTART:20231105T060000
END:STANDARD
BEGIN:DAYLIGHT
TZOFFSETFROM:-0500
TZOFFSETTO:-0400
TZNAME:EDT
DTSTART:20240310T070000
END:DAYLIGHT
BEGIN:STANDARD
TZOFFSETFROM:-0400
TZOFFSETTO:-0500
TZNAME:EST
DTSTART:20241103T060000
END:STANDARD
END:VTIMEZONE
BEGIN:VEVENT
DTSTART;TZID=America/Detroit:20221023T110000
DTEND;TZID=America/Detroit:20221023T170000
DTSTAMP:20260421T094219
CREATED:20200221T133135Z
LAST-MODIFIED:20221010T125743Z
UID:10008942-1666522800-1666544400@sunsetcoastmichigan.com
SUMMARY:Blue Moon Vintage Market
DESCRIPTION:One weekend only! Blue Moon Vintage Market in Three Oaks is having their monthly market Friday\, February 21 – Sunday\, February 23. Beginning at 10am\, peruse the antiques\, collectibles\, art\, home decor\, and more. No entry fee or ticket cost\, and their wares are restocked daily! \n6000 square feet of vintage\, industrial\, and architectural
URL:https://sunsetcoastmichigan.com/event/blue-moon-vintage-market/2022-10-23/
LOCATION:Blue Moon Vintage Market\, 1193 W Division Rd\, Westville\, IN\, 46391\, United States
CATEGORIES:Artisans & Makers
ATTACH;FMTTYPE=image/jpeg:https://sunsetcoastmichigan.com/wp-content/uploads/2020/02/jazmin-quaynor-MbY_q6A7lK0-unsplash-scaled.jpg
ORGANIZER;CN="Blue Moon Vintage Market":MAILTO:bluemoonvintagemarket@yahoo.com
GEO:41.8143228;-86.6106874
X-APPLE-STRUCTURED-LOCATION;VALUE=URI;X-ADDRESS=Blue Moon Vintage Market 1193 W Division Rd Westville IN 46391 United States;X-APPLE-RADIUS=500;X-TITLE=1193 W Division Rd:geo:-86.6106874,41.8143228
END:VEVENT
BEGIN:VEVENT
DTSTART;TZID=America/Detroit:20230902T100000
DTEND;TZID=America/Detroit:20230902T170000
DTSTAMP:20260421T094219
CREATED:20230515T124715Z
LAST-MODIFIED:20230515T124715Z
UID:10009119-1693648800-1693674000@sunsetcoastmichigan.com
SUMMARY:Lake Bluff Artisan Fair 2023
DESCRIPTION:This eclectic craft fair\, held in picturesque Lake Bluff Park\, offers a variety of handcrafted goods. With over 50 local vendors\, there’s something for everyone – anything from home decor and furniture to jewelry\, candles and more!
URL:https://sunsetcoastmichigan.com/event/lake-bluff-artisan-fair-2023/2023-09-02/
LOCATION:Lake Bluff Park\, 300 Lake Blvd\, Saint Joseph\, MI\, 49085\, United States
CATEGORIES:Artisans & Makers
ATTACH;FMTTYPE=image/jpeg:https://sunsetcoastmichigan.com/wp-content/uploads/2023/05/Lake_Bluff_Artisan_Fair_Hero.jpg
GEO:42.1100166;-86.4829468
X-APPLE-STRUCTURED-LOCATION;VALUE=URI;X-ADDRESS=Lake Bluff Park 300 Lake Blvd Saint Joseph MI 49085 United States;X-APPLE-RADIUS=500;X-TITLE=300 Lake Blvd:geo:-86.4829468,42.1100166
END:VEVENT
BEGIN:VEVENT
DTSTART;TZID=America/Detroit:20231001T100000
DTEND;TZID=America/Detroit:20231001T170000
DTSTAMP:20260421T094219
CREATED:20230515T125345Z
LAST-MODIFIED:20230515T125345Z
UID:10009125-1696154400-1696179600@sunsetcoastmichigan.com
SUMMARY:Antiques on the Bluff 2023
DESCRIPTION:Antiques on the Bluff is one of the coolest places to find something old that can be new to you!  Find hidden treasures along Lake Bluff Park at this premier antique show that overlooks Lake Michigan.  This event features over 50 vendors and runs the first Sunday of the month\, May through October. Rain or shine.
URL:https://sunsetcoastmichigan.com/event/antiques-on-the-bluff-2023/2023-10-01/
LOCATION:Lake Bluff Park\, 300 Lake Blvd\, Saint Joseph\, MI\, 49085\, United States
CATEGORIES:Artisans & Makers
ATTACH;FMTTYPE=image/jpeg:https://sunsetcoastmichigan.com/wp-content/uploads/2023/05/Antiques_Web_Use_2.jpg
GEO:42.1100166;-86.4829468
X-APPLE-STRUCTURED-LOCATION;VALUE=URI;X-ADDRESS=Lake Bluff Park 300 Lake Blvd Saint Joseph MI 49085 United States;X-APPLE-RADIUS=500;X-TITLE=300 Lake Blvd:geo:-86.4829468,42.1100166
END:VEVENT
END:VCALENDAR