BEGIN:VCALENDAR
VERSION:2.0
PRODID:-//Sunset Coast Michigan - ECPv6.15.20//NONSGML v1.0//EN
CALSCALE:GREGORIAN
METHOD:PUBLISH
X-ORIGINAL-URL:https://sunsetcoastmichigan.com
X-WR-CALDESC:Events for Sunset Coast Michigan
REFRESH-INTERVAL;VALUE=DURATION:PT1H
X-Robots-Tag:noindex
X-PUBLISHED-TTL:PT1H
BEGIN:VTIMEZONE
TZID:America/Detroit
BEGIN:DAYLIGHT
TZOFFSETFROM:-0500
TZOFFSETTO:-0400
TZNAME:EDT
DTSTART:20180311T070000
END:DAYLIGHT
BEGIN:STANDARD
TZOFFSETFROM:-0400
TZOFFSETTO:-0500
TZNAME:EST
DTSTART:20181104T060000
END:STANDARD
BEGIN:DAYLIGHT
TZOFFSETFROM:-0500
TZOFFSETTO:-0400
TZNAME:EDT
DTSTART:20190310T070000
END:DAYLIGHT
BEGIN:STANDARD
TZOFFSETFROM:-0400
TZOFFSETTO:-0500
TZNAME:EST
DTSTART:20191103T060000
END:STANDARD
BEGIN:DAYLIGHT
TZOFFSETFROM:-0500
TZOFFSETTO:-0400
TZNAME:EDT
DTSTART:20200308T070000
END:DAYLIGHT
BEGIN:STANDARD
TZOFFSETFROM:-0400
TZOFFSETTO:-0500
TZNAME:EST
DTSTART:20201101T060000
END:STANDARD
BEGIN:DAYLIGHT
TZOFFSETFROM:-0500
TZOFFSETTO:-0400
TZNAME:EDT
DTSTART:20210314T070000
END:DAYLIGHT
BEGIN:STANDARD
TZOFFSETFROM:-0400
TZOFFSETTO:-0500
TZNAME:EST
DTSTART:20211107T060000
END:STANDARD
BEGIN:DAYLIGHT
TZOFFSETFROM:-0500
TZOFFSETTO:-0400
TZNAME:EDT
DTSTART:20220313T070000
END:DAYLIGHT
BEGIN:STANDARD
TZOFFSETFROM:-0400
TZOFFSETTO:-0500
TZNAME:EST
DTSTART:20221106T060000
END:STANDARD
BEGIN:DAYLIGHT
TZOFFSETFROM:-0500
TZOFFSETTO:-0400
TZNAME:EDT
DTSTART:20230312T070000
END:DAYLIGHT
BEGIN:STANDARD
TZOFFSETFROM:-0400
TZOFFSETTO:-0500
TZNAME:EST
DTSTART:20231105T060000
END:STANDARD
END:VTIMEZONE
BEGIN:VEVENT
DTSTART;TZID=America/Detroit:20191124T103000
DTEND;TZID=America/Detroit:20191125T170000
DTSTAMP:20260420T111944
CREATED:20191112T172258Z
LAST-MODIFIED:20191112T172258Z
UID:10008825-1574591400-1574701200@sunsetcoastmichigan.com
SUMMARY:Journeyman Autumn Artisan Market
DESCRIPTION:Fill your weekend with shopping and cocktails at Journeyman Distillery’s Autumn Artisan Market\, November 23rd and 24th.\nOpening at 10:30am\, vendors and artists will have every inch of the gorgeous featherbone factory filled with decor items\, jewelry\, clothing\, soaps\, snacks\, treats\, art\, and MORE\, all for purchase! Food & beverages will be available for purchase also\, so you can easily make a whole day of it! Find the perfect gift for everyone on your list.\nShop local! Happy Holidays! \nAdmission is FREE
URL:https://sunsetcoastmichigan.com/event/journeyman-autumn-artisan-market/2019-11-24/
LOCATION:Journeyman Distillery\, 109 Generations Drive\, Three Oaks\, MI\, 49128\, United States
CATEGORIES:Artisans & Makers,Family Events,Holiday
ATTACH;FMTTYPE=image/jpeg:https://sunsetcoastmichigan.com/wp-content/uploads/2019/11/giftxmas.jpg
ORGANIZER;CN="Journeyman Distillery":MAILTO:info@journeymandistillery.com
GEO:41.802729;-86.6115773
X-APPLE-STRUCTURED-LOCATION;VALUE=URI;X-ADDRESS=Journeyman Distillery 109 Generations Drive Three Oaks MI 49128 United States;X-APPLE-RADIUS=500;X-TITLE=109 Generations Drive:geo:-86.6115773,41.802729
END:VEVENT
BEGIN:VEVENT
DTSTART;TZID=America/Detroit:20191130T100000
DTEND;TZID=America/Detroit:20191130T180000
DTSTAMP:20260420T111944
CREATED:20191112T011114Z
LAST-MODIFIED:20191112T172933Z
UID:10008820-1575108000-1575136800@sunsetcoastmichigan.com
SUMMARY:Holiday Makers Market @ The Box
DESCRIPTION:Small Business Saturday! Artists & Makers will be setting up booth spaces throughout the Box Factory to create a fun and festive Makers Market just in time for the Holiday Season! Come early\, stay late\, make a day of it – you are sure to find special gifts for everyone on your list. \nFood and beverages will be available for purchase also– with the FABulous Chef Audy of Werk It food truck\, and Forté Coffee pouring hot beverages all day. There will be a full cash bar open all day\, with beer\, wine and select cocktails\, including the ever-popular Bloody Mary bar! \nFor a complete list of vendors and performers\, pop on over to boxfactoryforthearts.org
URL:https://sunsetcoastmichigan.com/event/holiday-makers-market-the-box/
LOCATION:Box Factory for the Arts\, 1101 Broad Street\, St. Joseph\, MI\, 49085\, United States
CATEGORIES:Artisans & Makers,Community Events,Family Events,Holiday
ATTACH;FMTTYPE=image/jpeg:https://sunsetcoastmichigan.com/wp-content/uploads/2019/11/box-factory-art-center1.jpg
GEO:42.1063467;-86.476513
X-APPLE-STRUCTURED-LOCATION;VALUE=URI;X-ADDRESS=Box Factory for the Arts 1101 Broad Street St. Joseph MI 49085 United States;X-APPLE-RADIUS=500;X-TITLE=1101 Broad Street:geo:-86.476513,42.1063467
END:VEVENT
BEGIN:VEVENT
DTSTART;TZID=America/Detroit:20191210T170000
DTEND;TZID=America/Detroit:20191210T210000
DTSTAMP:20260420T111944
CREATED:20191112T164836Z
LAST-MODIFIED:20191112T172345Z
UID:10008822-1575997200-1576011600@sunsetcoastmichigan.com
SUMMARY:The Livery's 11th Annual Holiday Bizarre
DESCRIPTION:Find the perfect gifts for your loved ones in this cozy\, holiday atmosphere!\nThe 11th annual Holiday Bizarre is THE place to purchase hand-forged items\, goods\, and wares from local artists\, artisans\, and craftsmen. On Monday\, December 9th from 6pm – 9pm\, and Tuesday\, December 10th from 5pm – 9pm all three floors of the Livery will be jam-packed with brand new and returning vendors. Grab a bite and a brew while you shop\, and ring in the holidays the right way! \nNo admission fee
URL:https://sunsetcoastmichigan.com/event/the-liverys-11th-annual-holiday-bizarre/2019-12-10/
LOCATION:The Livery\, 190 5th street\, Benton Harbor\, MI\, 49022\, United States
CATEGORIES:Artisans & Makers,Community Events,Family Events,Holiday
ATTACH;FMTTYPE=image/jpeg:https://sunsetcoastmichigan.com/wp-content/uploads/2019/11/livery.jpg
GEO:42.1181061;-86.4537164
X-APPLE-STRUCTURED-LOCATION;VALUE=URI;X-ADDRESS=The Livery 190 5th street Benton Harbor MI 49022 United States;X-APPLE-RADIUS=500;X-TITLE=190 5th street:geo:-86.4537164,42.1181061
END:VEVENT
BEGIN:VEVENT
DTSTART;TZID=America/Detroit:20221023T110000
DTEND;TZID=America/Detroit:20221023T170000
DTSTAMP:20260420T111944
CREATED:20200221T133135Z
LAST-MODIFIED:20221010T125743Z
UID:10008942-1666522800-1666544400@sunsetcoastmichigan.com
SUMMARY:Blue Moon Vintage Market
DESCRIPTION:One weekend only! Blue Moon Vintage Market in Three Oaks is having their monthly market Friday\, February 21 – Sunday\, February 23. Beginning at 10am\, peruse the antiques\, collectibles\, art\, home decor\, and more. No entry fee or ticket cost\, and their wares are restocked daily! \n6000 square feet of vintage\, industrial\, and architectural
URL:https://sunsetcoastmichigan.com/event/blue-moon-vintage-market/2022-10-23/
LOCATION:Blue Moon Vintage Market\, 1193 W Division Rd\, Westville\, IN\, 46391\, United States
CATEGORIES:Artisans & Makers
ATTACH;FMTTYPE=image/jpeg:https://sunsetcoastmichigan.com/wp-content/uploads/2020/02/jazmin-quaynor-MbY_q6A7lK0-unsplash-scaled.jpg
ORGANIZER;CN="Blue Moon Vintage Market":MAILTO:bluemoonvintagemarket@yahoo.com
GEO:41.8143228;-86.6106874
X-APPLE-STRUCTURED-LOCATION;VALUE=URI;X-ADDRESS=Blue Moon Vintage Market 1193 W Division Rd Westville IN 46391 United States;X-APPLE-RADIUS=500;X-TITLE=1193 W Division Rd:geo:-86.6106874,41.8143228
END:VEVENT
END:VCALENDAR