BEGIN:VCALENDAR
VERSION:2.0
PRODID:-//Sunset Coast Michigan - ECPv6.15.20//NONSGML v1.0//EN
CALSCALE:GREGORIAN
METHOD:PUBLISH
X-ORIGINAL-URL:https://sunsetcoastmichigan.com
X-WR-CALDESC:Events for Sunset Coast Michigan
REFRESH-INTERVAL;VALUE=DURATION:PT1H
X-Robots-Tag:noindex
X-PUBLISHED-TTL:PT1H
BEGIN:VTIMEZONE
TZID:America/Detroit
BEGIN:DAYLIGHT
TZOFFSETFROM:-0500
TZOFFSETTO:-0400
TZNAME:EDT
DTSTART:20190310T070000
END:DAYLIGHT
BEGIN:STANDARD
TZOFFSETFROM:-0400
TZOFFSETTO:-0500
TZNAME:EST
DTSTART:20191103T060000
END:STANDARD
BEGIN:DAYLIGHT
TZOFFSETFROM:-0500
TZOFFSETTO:-0400
TZNAME:EDT
DTSTART:20200308T070000
END:DAYLIGHT
BEGIN:STANDARD
TZOFFSETFROM:-0400
TZOFFSETTO:-0500
TZNAME:EST
DTSTART:20201101T060000
END:STANDARD
BEGIN:DAYLIGHT
TZOFFSETFROM:-0500
TZOFFSETTO:-0400
TZNAME:EDT
DTSTART:20210314T070000
END:DAYLIGHT
BEGIN:STANDARD
TZOFFSETFROM:-0400
TZOFFSETTO:-0500
TZNAME:EST
DTSTART:20211107T060000
END:STANDARD
END:VTIMEZONE
BEGIN:VEVENT
DTSTART;TZID=America/Detroit:20200201T100000
DTEND;TZID=America/Detroit:20200201T133000
DTSTAMP:20260421T112051
CREATED:20200106T042459Z
LAST-MODIFIED:20200106T042459Z
UID:10008925-1580551200-1580563800@sunsetcoastmichigan.com
SUMMARY:Berrien County Polar Plunge @ Watermark Brewing
DESCRIPTION:Plunge for funds!\nMichigan Law Enforcement for Michigan Special Olympics is raising money in a coooool way. On Saturday February 1st\, registered Polar Plungers will dive into a swimming pool outside of Watermark Brewing Company in Stevensville. In partner with many local businesses in Southwest Michigan\, this event is Freezin for a Reason — their goal is to raise $30\,000\, and they need YOU to help reach it!\nRegistration begins at 10am\, and the plunge will happen at Noon! \nRegister\, donate\, and read more about it here!
URL:https://sunsetcoastmichigan.com/event/berrien-county-polar-plunge-watermark-brewing/
LOCATION:Watermark Brewing Company\, 5781 Saint Joseph Ave\, Stevensville\, MI\, 49127\, United States
CATEGORIES:Community Events,Outdoorsy Events
ATTACH;FMTTYPE=image/jpeg:https://sunsetcoastmichigan.com/wp-content/uploads/2020/01/polar-plunge.jpg
ORGANIZER;CN="Watermark Brewing Company":MAILTO:events@watermarkbrewing.com
GEO:42.0129525;-86.5194902
X-APPLE-STRUCTURED-LOCATION;VALUE=URI;X-ADDRESS=Watermark Brewing Company 5781 Saint Joseph Ave Stevensville MI 49127 United States;X-APPLE-RADIUS=500;X-TITLE=5781 Saint Joseph Ave:geo:-86.5194902,42.0129525
END:VEVENT
BEGIN:VEVENT
DTSTART;TZID=America/Detroit:20200222T120000
DTEND;TZID=America/Detroit:20200223T013000
DTSTAMP:20260421T112051
CREATED:20200221T142035Z
LAST-MODIFIED:20200221T142035Z
UID:10008943-1582372800-1582421400@sunsetcoastmichigan.com
SUMMARY:Island Party @ Black River Tavern
DESCRIPTION:Dance out of winter hibernation and wake up the warmth! Spend the day and night at Black River Tavern in South Haven\, on Saturday February 22\, for their Island Party! Live music by reggae band Zion Lion starts at 8pm\, and food and drink specials will be running all day long. Sign up in person for many giveaways that will be available\, and spend the day rocking out for the return of spring!
URL:https://sunsetcoastmichigan.com/event/island-party-black-river-tavern/
LOCATION:Black River Tavern\, 403 Phoenix St\, South Haven\, MI\, 49090\, United States
CATEGORIES:Concerts & Live Music,Food + Drink Events
ATTACH;FMTTYPE=image/jpeg:https://sunsetcoastmichigan.com/wp-content/uploads/2020/02/photo-1496843916299-590492c751f4.jpeg
GEO:42.4033007;-86.2756467
X-APPLE-STRUCTURED-LOCATION;VALUE=URI;X-ADDRESS=Black River Tavern 403 Phoenix St South Haven MI 49090 United States;X-APPLE-RADIUS=500;X-TITLE=403 Phoenix St:geo:-86.2756467,42.4033007
END:VEVENT
BEGIN:VEVENT
DTSTART;TZID=America/Detroit:20200222T180000
DTEND;TZID=America/Detroit:20200222T230000
DTSTAMP:20260421T112051
CREATED:20200212T005131Z
LAST-MODIFIED:20200212T005131Z
UID:10008936-1582394400-1582412400@sunsetcoastmichigan.com
SUMMARY:61st Annual Charity Ball - 1920s Prohibition Bootlegger's Bash!
DESCRIPTION:Well-behaved women rarely make history!\nThe “Women’s Temperance Society of Saint Joseph” invites you to attend their 61st annual ball in honor of The Children’s Advocacy Center (CAC) on February 22nd\, at 6pm.\nThis year\, the theme is 1920’s Prohibition Bootlegger’s Bash; period-themed costume attire is encouraged\, but not required.\nThis event will include a hosted bar\, food\, and fun! Additional specialty cocktails and other novelties will be available for purchase.\nEarly Bird Tickets are $100 and the Secret Word will be provided upon registration. \nCome out to support the Children’s Advocacy Center\, and have a ball!
URL:https://sunsetcoastmichigan.com/event/61st-annual-charity-ball-1920s-prohibition-bootleggers-bash/
LOCATION:The Ghostlight Theatre\, 101 Hinkley Street\, Benton Harbor\, MI\, 49022\, United States
CATEGORIES:Community Events,Cultural Events
ATTACH;FMTTYPE=image/jpeg:https://sunsetcoastmichigan.com/wp-content/uploads/2020/02/gatsby-2.jpg
GEO:42.117333;-86.4561664
X-APPLE-STRUCTURED-LOCATION;VALUE=URI;X-ADDRESS=The Ghostlight Theatre 101 Hinkley Street Benton Harbor MI 49022 United States;X-APPLE-RADIUS=500;X-TITLE=101 Hinkley Street:geo:-86.4561664,42.117333
END:VEVENT
BEGIN:VEVENT
DTSTART;TZID=America/Detroit:20200223T160000
DTEND;TZID=America/Detroit:20200223T220000
DTSTAMP:20260421T112051
CREATED:20200212T003235Z
LAST-MODIFIED:20200212T003235Z
UID:10008935-1582473600-1582495200@sunsetcoastmichigan.com
SUMMARY:Harbor Shores Give Back Night -- 100 Women Strong!
DESCRIPTION:Plank’s Tavern at the Harbor Shores Inn has joined with 100 Women Strong for a night of giving.\n50% of the food and beverage revenue collected from 4pm-10pm on Sunday\, February 23rd\, will go to 100 Women Strong\, an incredible\, local\, non-profit organization.\nRun by strong women and created for strong women\, this group supports and lifts up the backbone of our families and communities\, because even our heroes can use a little help sometimes. \nEat\, drink\, & give back!
URL:https://sunsetcoastmichigan.com/event/harbor-shores-give-back-night-100-women-strong/
LOCATION:Plank’s Tavern on the Water\, 800 Whitwam Drive\, Benton Harbor\, MI\, 49022\, United States
CATEGORIES:Community Events,Food + Drink Events
ATTACH;FMTTYPE=image/jpeg:https://sunsetcoastmichigan.com/wp-content/uploads/2020/02/Planks_Logo-300x258-1.jpg
GEO:42.1159897;-86.4718289
X-APPLE-STRUCTURED-LOCATION;VALUE=URI;X-ADDRESS=Plank’s Tavern on the Water 800 Whitwam Drive Benton Harbor MI 49022 United States;X-APPLE-RADIUS=500;X-TITLE=800 Whitwam Drive:geo:-86.4718289,42.1159897
END:VEVENT
BEGIN:VEVENT
DTSTART;TZID=America/Detroit:20200228T180000
DTEND;TZID=America/Detroit:20200228T200000
DTSTAMP:20260421T112051
CREATED:20200221T153702Z
LAST-MODIFIED:20200221T153702Z
UID:10008944-1582912800-1582920000@sunsetcoastmichigan.com
SUMMARY:Hickory Creek Winemaker Dinner @ Froehlich's
DESCRIPTION:Friday\, February 28th\, Froehlich’s is hosting a fantastic evening with Adam McBride of Hickory Creek Winery; join them for a three-course dinner\, paired with four delectable wines. With the wine reception beginning at 6pm and seating at 6:30\, Adam will guide you through each carefully prepared course. \nColleen’s appetizers and entrees are highlighted perfectly by each glass\, and desserts by Froehlich’s bakery will conclude the evening perfectly. \nReservations are required\, so purchase soon! \nTicket price includes tax and gratuity.
URL:https://sunsetcoastmichigan.com/event/hickory-creek-winemaker-dinner-froehlichs/
LOCATION:Froehlich’s Kitchen & Pantry\, 19 N. Elm\, Three Oaks\, MI\, 49128\, United States
CATEGORIES:Cultural Events,Food + Drink Events
ATTACH;FMTTYPE=image/jpeg:https://sunsetcoastmichigan.com/wp-content/uploads/2020/02/facebook_1582298008606.jpg
GEO:41.8017392;-86.6109076
X-APPLE-STRUCTURED-LOCATION;VALUE=URI;X-ADDRESS=Froehlich’s Kitchen & Pantry 19 N. Elm Three Oaks MI 49128 United States;X-APPLE-RADIUS=500;X-TITLE=19 N. Elm:geo:-86.6109076,41.8017392
END:VEVENT
BEGIN:VEVENT
DTSTART;TZID=America/Detroit:20200229T113000
DTEND;TZID=America/Detroit:20200229T230000
DTSTAMP:20260421T112051
CREATED:20200219T010030Z
LAST-MODIFIED:20200219T010030Z
UID:10008938-1582975800-1583017200@sunsetcoastmichigan.com
SUMMARY:Bourbon & Bacon @ Iron Shoe Distillery
DESCRIPTION:One extra day in February calls for a celebration! Iron Shoe Distillery is welcoming Leap Day with class and deliciousness: Bourbon and Bacon.\nOn Saturday\, February 29th\, dine at Iron Shoe Distillery in Niles and delight in their special treats:\ntry their Bacon-infused Old Fashioned for $10\, and pair it with candied bacon!
URL:https://sunsetcoastmichigan.com/event/bourbon-bacon-iron-shoe-distillery/
LOCATION:Iron Shoe Distillery\, 3 N 3rd Street\, Niles\, MI\, 49120\, United States
CATEGORIES:Food + Drink Events
ATTACH;FMTTYPE=image/jpeg:https://sunsetcoastmichigan.com/wp-content/uploads/2020/02/bacon.jpg
GEO:41.8283083;-86.2558364
X-APPLE-STRUCTURED-LOCATION;VALUE=URI;X-ADDRESS=Iron Shoe Distillery 3 N 3rd Street Niles MI 49120 United States;X-APPLE-RADIUS=500;X-TITLE=3 N 3rd Street:geo:-86.2558364,41.8283083
END:VEVENT
BEGIN:VEVENT
DTSTART;TZID=America/Detroit:20200229T130000
DTEND;TZID=America/Detroit:20200229T220000
DTSTAMP:20260421T112051
CREATED:20200211T235115Z
LAST-MODIFIED:20200211T235115Z
UID:10008932-1582981200-1583013600@sunsetcoastmichigan.com
SUMMARY:Winter Delights Festival
DESCRIPTION:Spend this Bonus Day with live music\, craft beer\, cider and wine\, delicious foods\, and pop-up artisan market! The Mendel Center at Lake Michigan College is waiting for you!\nWith the wonderful musical talents of:\nSix Appeal\, Jig Jam\, The Reminders\, and headliner Bryan Lubeck \n$50 advance/$60 day of – All-Access pass for everything*\n$30 advance/$35 day of – Mainstage full access to concerts  at 4\, 6\, & 8 pm\n$30 advance/$35 day of – Grand Upton Hall Taste Faire & Stage until 8 pm (21 and older)\n$20 – Grand Upton Hall Taste Faire & Stage Designated Driver pass \n*​The All-Access pass includes both Grand Upton Hall Taste Faire & Stage and all Mainstage concerts. Grand Upton Hall Taste Faire & Stage and All-Access tickets include $10 in beer\, wine\, and cider tastes.
URL:https://sunsetcoastmichigan.com/event/winter-delights-festival/
LOCATION:The Mendel Center Mainstage at Jenkins Theater\, 2755 E. Napier Ave\, Benton Harbor\, MI\, 49022\, United States
CATEGORIES:Artisans & Makers,Concerts & Live Music,Festivals
ATTACH;FMTTYPE=image/jpeg:https://sunsetcoastmichigan.com/wp-content/uploads/2020/02/winterwine.jpg
GEO:42.0955639;-86.3930083
X-APPLE-STRUCTURED-LOCATION;VALUE=URI;X-ADDRESS=The Mendel Center Mainstage at Jenkins Theater 2755 E. Napier Ave Benton Harbor MI 49022 United States;X-APPLE-RADIUS=500;X-TITLE=2755 E. Napier Ave:geo:-86.3930083,42.0955639
END:VEVENT
BEGIN:VEVENT
DTSTART;TZID=America/Detroit:20200306T183000
DTEND;TZID=America/Detroit:20200306T210000
DTSTAMP:20260421T112051
CREATED:20200219T011336Z
LAST-MODIFIED:20200219T011336Z
UID:10008939-1583519400-1583528400@sunsetcoastmichigan.com
SUMMARY:Epicurean Dinner Series No. 2 @ Free Run Cellars
DESCRIPTION:The second meal of the 2020 Epicurean Dinner Series at Free Run Cellars will begin on Friday\, March 6th\, at 6:30pm.\nChef Ryan Thornburg will guide each diner through a delicious journey via his carefully constructed menu of fresh flavors and local ingredients.\nThis meal introduces a Dry Reisling to ginger-miso chicken thighs\, a Lemberger with veal and ricotta meatballs\, and so much more.\nThese dinners are more than just meals — perfectly pairing wines with small plates\, Free Run invites your taste buds on this exquisite adventure. \nTickets are available here. \n  \n  \n 
URL:https://sunsetcoastmichigan.com/event/epicurean-dinner-series-no-2-free-run-cellars/
LOCATION:Free Run Cellars\, 10062 Burgoyne Rd\, Berrien Springs\, 49103\, United States
CATEGORIES:Cultural Events,Food + Drink Events
ATTACH;FMTTYPE=image/jpeg:https://sunsetcoastmichigan.com/wp-content/uploads/2020/02/epicurean.jpg
GEO:41.9367144;-86.4201939
X-APPLE-STRUCTURED-LOCATION;VALUE=URI;X-ADDRESS=Free Run Cellars 10062 Burgoyne Rd Berrien Springs 49103 United States;X-APPLE-RADIUS=500;X-TITLE=10062 Burgoyne Rd:geo:-86.4201939,41.9367144
END:VEVENT
END:VCALENDAR