BEGIN:VCALENDAR
VERSION:2.0
PRODID:-//Sunset Coast Michigan - ECPv6.15.20//NONSGML v1.0//EN
CALSCALE:GREGORIAN
METHOD:PUBLISH
X-ORIGINAL-URL:https://sunsetcoastmichigan.com
X-WR-CALDESC:Events for Sunset Coast Michigan
REFRESH-INTERVAL;VALUE=DURATION:PT1H
X-Robots-Tag:noindex
X-PUBLISHED-TTL:PT1H
BEGIN:VTIMEZONE
TZID:America/Detroit
BEGIN:DAYLIGHT
TZOFFSETFROM:-0500
TZOFFSETTO:-0400
TZNAME:EDT
DTSTART:20180311T070000
END:DAYLIGHT
BEGIN:STANDARD
TZOFFSETFROM:-0400
TZOFFSETTO:-0500
TZNAME:EST
DTSTART:20181104T060000
END:STANDARD
BEGIN:DAYLIGHT
TZOFFSETFROM:-0500
TZOFFSETTO:-0400
TZNAME:EDT
DTSTART:20190310T070000
END:DAYLIGHT
BEGIN:STANDARD
TZOFFSETFROM:-0400
TZOFFSETTO:-0500
TZNAME:EST
DTSTART:20191103T060000
END:STANDARD
BEGIN:DAYLIGHT
TZOFFSETFROM:-0500
TZOFFSETTO:-0400
TZNAME:EDT
DTSTART:20200308T070000
END:DAYLIGHT
BEGIN:STANDARD
TZOFFSETFROM:-0400
TZOFFSETTO:-0500
TZNAME:EST
DTSTART:20201101T060000
END:STANDARD
BEGIN:DAYLIGHT
TZOFFSETFROM:-0500
TZOFFSETTO:-0400
TZNAME:EDT
DTSTART:20210314T070000
END:DAYLIGHT
BEGIN:STANDARD
TZOFFSETFROM:-0400
TZOFFSETTO:-0500
TZNAME:EST
DTSTART:20211107T060000
END:STANDARD
BEGIN:DAYLIGHT
TZOFFSETFROM:-0500
TZOFFSETTO:-0400
TZNAME:EDT
DTSTART:20220313T070000
END:DAYLIGHT
BEGIN:STANDARD
TZOFFSETFROM:-0400
TZOFFSETTO:-0500
TZNAME:EST
DTSTART:20221106T060000
END:STANDARD
BEGIN:DAYLIGHT
TZOFFSETFROM:-0500
TZOFFSETTO:-0400
TZNAME:EDT
DTSTART:20230312T070000
END:DAYLIGHT
BEGIN:STANDARD
TZOFFSETFROM:-0400
TZOFFSETTO:-0500
TZNAME:EST
DTSTART:20231105T060000
END:STANDARD
BEGIN:DAYLIGHT
TZOFFSETFROM:-0500
TZOFFSETTO:-0400
TZNAME:EDT
DTSTART:20240310T070000
END:DAYLIGHT
BEGIN:STANDARD
TZOFFSETFROM:-0400
TZOFFSETTO:-0500
TZNAME:EST
DTSTART:20241103T060000
END:STANDARD
END:VTIMEZONE
BEGIN:VEVENT
DTSTART;TZID=America/Detroit:20190914T180000
DTEND;TZID=America/Detroit:20190914T200000
DTSTAMP:20260421T082016
CREATED:20190830T143135Z
LAST-MODIFIED:20190912T143854Z
UID:10008409-1568484000-1568491200@sunsetcoastmichigan.com
SUMMARY:Green Wagon Farm Dinner
DESCRIPTION:A field-to-fork experience\, the Green Wagon Farm Dinner at the Sovengard is a celebration of nature’s bounty during Michigan’s own harvest time. Green Wagon Farm is a local\, sustainable\, organic farm that provides produce and plant power to the Sovengard every day. This collaboration exacerbates the hyper-local and fresh ingredients that flow from the field directly to your mouth (with a quick stop in the kitchen\, I suppose). This seven-course vegetarian meal (with communal wine) will have your taste buds soaring\, as you gather to delightfully dine with friends and neighbors.\nFull bar menu will be available for purchase as well.
URL:https://sunsetcoastmichigan.com/event/green-wagon-farm-dinner/
LOCATION:The Sovengard\, 443 Bridge St NW\, Grand Rapids\, MI\, 49504\, United States
CATEGORIES:Food + Drink Events
ATTACH;FMTTYPE=image/jpeg:https://sunsetcoastmichigan.com/wp-content/uploads/2019/07/featured6.jpg
GEO:42.9708158;-85.6806669
X-APPLE-STRUCTURED-LOCATION;VALUE=URI;X-ADDRESS=The Sovengard 443 Bridge St NW Grand Rapids MI 49504 United States;X-APPLE-RADIUS=500;X-TITLE=443 Bridge St NW:geo:-85.6806669,42.9708158
END:VEVENT
BEGIN:VEVENT
DTSTART;TZID=America/Detroit:20191005T130000
DTEND;TZID=America/Detroit:20191005T170000
DTSTAMP:20260421T082016
CREATED:20190828T170506Z
LAST-MODIFIED:20190912T143933Z
UID:10006844-1570280400-1570294800@sunsetcoastmichigan.com
SUMMARY:Donut Fest Grand Rapids
DESCRIPTION:Doughnuts! Beer! Prizes! and more!\nWith a portion of this year’s proceeds going toward Golden Rule Charity\, this is an event you don’t want to miss. Enjoy beer and doughnut samples\, coffee and tea samples\, and help judge the doughnut contest! Test your sugar-eating skills during the doughnut eating contest\, and strike a pose in the photo booth. There will also be other food and drink vendors on site\, providing deliciousness that will be available for purchase. Special priced tickets available for children
URL:https://sunsetcoastmichigan.com/event/donut-fest-grand-rapids/
LOCATION:B.O.B.’s Brewery\, 20 Monroe Avenue NW\, Grand Rapids\, MI\, 49503\, United States
CATEGORIES:Festivals,Food + Drink Events
GEO:42.9636016;-85.672904
X-APPLE-STRUCTURED-LOCATION;VALUE=URI;X-ADDRESS=B.O.B.’s Brewery 20 Monroe Avenue NW Grand Rapids MI 49503 United States;X-APPLE-RADIUS=500;X-TITLE=20 Monroe Avenue NW:geo:-85.672904,42.9636016
END:VEVENT
BEGIN:VEVENT
DTSTART;TZID=America/Detroit:20230515T193000
DTEND;TZID=America/Detroit:20230515T213000
DTSTAMP:20260421T082016
CREATED:20190906T214602Z
LAST-MODIFIED:20191112T172839Z
UID:10008392-1684179000-1684186200@sunsetcoastmichigan.com
SUMMARY:Trans-Siberian Orchestra 2019 {presented by Hallmark Channel}
DESCRIPTION:“Christmas Eve and Other Stories” began this rock theater concert format\, bringing this orchestra and their fans closer than anyone ever thought possible. The Winter 2019 Tour of the Trans-Siberian Orchestra has all new staging and effects; you do not want to miss this! Help ring in the Christmas season with one of the greatest concerts in the world. This multi-generational\, sensory extravaganza will tour North America from November 13th – December 30th\, with two fantastical performances right here in Michigan on Sunday\, December 1st.\nTickets go on sale September 13th\, watch your calendars!
URL:https://sunsetcoastmichigan.com/event/trans-siberian-orchestra-2019-presented-by-hallmark-channel/2023-05-15/
LOCATION:Van Andel Arena\, 130 Fulton Street W\, Grand Rapids\, MI\, 49503\, United States
CATEGORIES:Concerts & Live Music,Family Events,Holiday
ATTACH;FMTTYPE=image/jpeg:https://sunsetcoastmichigan.com/wp-content/uploads/2019/09/orchestra.jpg
GEO:42.9624457;-85.6714195
X-APPLE-STRUCTURED-LOCATION;VALUE=URI;X-ADDRESS=Van Andel Arena 130 Fulton Street W Grand Rapids MI 49503 United States;X-APPLE-RADIUS=500;X-TITLE=130 Fulton Street W:geo:-85.6714195,42.9624457
END:VEVENT
END:VCALENDAR