BEGIN:VCALENDAR
VERSION:2.0
PRODID:-//Sunset Coast Michigan - ECPv6.15.20//NONSGML v1.0//EN
CALSCALE:GREGORIAN
METHOD:PUBLISH
X-ORIGINAL-URL:https://sunsetcoastmichigan.com
X-WR-CALDESC:Events for Sunset Coast Michigan
REFRESH-INTERVAL;VALUE=DURATION:PT1H
X-Robots-Tag:noindex
X-PUBLISHED-TTL:PT1H
BEGIN:VTIMEZONE
TZID:America/Detroit
BEGIN:DAYLIGHT
TZOFFSETFROM:-0500
TZOFFSETTO:-0400
TZNAME:EDT
DTSTART:20180311T070000
END:DAYLIGHT
BEGIN:STANDARD
TZOFFSETFROM:-0400
TZOFFSETTO:-0500
TZNAME:EST
DTSTART:20181104T060000
END:STANDARD
BEGIN:DAYLIGHT
TZOFFSETFROM:-0500
TZOFFSETTO:-0400
TZNAME:EDT
DTSTART:20190310T070000
END:DAYLIGHT
BEGIN:STANDARD
TZOFFSETFROM:-0400
TZOFFSETTO:-0500
TZNAME:EST
DTSTART:20191103T060000
END:STANDARD
BEGIN:DAYLIGHT
TZOFFSETFROM:-0500
TZOFFSETTO:-0400
TZNAME:EDT
DTSTART:20200308T070000
END:DAYLIGHT
BEGIN:STANDARD
TZOFFSETFROM:-0400
TZOFFSETTO:-0500
TZNAME:EST
DTSTART:20201101T060000
END:STANDARD
END:VTIMEZONE
BEGIN:VEVENT
DTSTART;TZID=America/Detroit:20191026T193000
DTEND;TZID=America/Detroit:20191026T233000
DTSTAMP:20260421T054852
CREATED:20190829T185210Z
LAST-MODIFIED:20191008T010551Z
UID:10007124-1572118200-1572132600@sunsetcoastmichigan.com
SUMMARY:HauseFest Halloween 2019
DESCRIPTION:Since 2011\, The Hausemans and the Coldwell Banker Charitable Foundation have been hosting the annual HauseFest Halloween bash\, benefiting Ronald McDonald House Charities. To date\, HauseFest has raised over $70\,000.\nThere are plenty of tasty snacks\, (generously donated by restaurants in Harbor Country) a cash bar\, silent auction\, prizes for Best Costume\, and hours upon hours of dancing with the live band. Local businesses and community members go all out for this fundraising event! Purchase your tickets soon — this event sells out quickly!
URL:https://sunsetcoastmichigan.com/event/hausefest-2019/
LOCATION:The Acorn Theater\, 107 Generation Drive\, Three Oaks\, MI\, 49128\, United States
CATEGORIES:Community Events
ATTACH;FMTTYPE=image/jpeg:https://sunsetcoastmichigan.com/wp-content/uploads/2019/08/halloween1.jpg
ORGANIZER;CN="HauseFest":MAILTO:khausman@lakehomes.com
GEO:41.8024613;-86.6116472
X-APPLE-STRUCTURED-LOCATION;VALUE=URI;X-ADDRESS=The Acorn Theater 107 Generation Drive Three Oaks MI 49128 United States;X-APPLE-RADIUS=500;X-TITLE=107 Generation Drive:geo:-86.6116472,41.8024613
END:VEVENT
END:VCALENDAR