BEGIN:VCALENDAR
VERSION:2.0
PRODID:-//Sunset Coast Michigan - ECPv6.15.20//NONSGML v1.0//EN
CALSCALE:GREGORIAN
METHOD:PUBLISH
X-ORIGINAL-URL:https://sunsetcoastmichigan.com
X-WR-CALDESC:Events for Sunset Coast Michigan
REFRESH-INTERVAL;VALUE=DURATION:PT1H
X-Robots-Tag:noindex
X-PUBLISHED-TTL:PT1H
BEGIN:VTIMEZONE
TZID:America/Detroit
BEGIN:DAYLIGHT
TZOFFSETFROM:-0500
TZOFFSETTO:-0400
TZNAME:EDT
DTSTART:20210314T070000
END:DAYLIGHT
BEGIN:STANDARD
TZOFFSETFROM:-0400
TZOFFSETTO:-0500
TZNAME:EST
DTSTART:20211107T060000
END:STANDARD
BEGIN:DAYLIGHT
TZOFFSETFROM:-0500
TZOFFSETTO:-0400
TZNAME:EDT
DTSTART:20220313T070000
END:DAYLIGHT
BEGIN:STANDARD
TZOFFSETFROM:-0400
TZOFFSETTO:-0500
TZNAME:EST
DTSTART:20221106T060000
END:STANDARD
BEGIN:DAYLIGHT
TZOFFSETFROM:-0500
TZOFFSETTO:-0400
TZNAME:EDT
DTSTART:20230312T070000
END:DAYLIGHT
BEGIN:STANDARD
TZOFFSETFROM:-0400
TZOFFSETTO:-0500
TZNAME:EST
DTSTART:20231105T060000
END:STANDARD
END:VTIMEZONE
BEGIN:VEVENT
DTSTART;TZID=America/Detroit:20221231T183000
DTEND;TZID=America/Detroit:20221231T213000
DTSTAMP:20260421T214307
CREATED:20221215T170819Z
LAST-MODIFIED:20221215T170823Z
UID:10009085-1672511400-1672522200@sunsetcoastmichigan.com
SUMMARY:NYE Tasting Menu Dinner @ Houndstooth
DESCRIPTION:In our opinion\, Houndstooth is one of if not the best restaurant in the region.  New Year’s Eve is a special occasion\, and special occasions mean special places.  If you’re looking for things to do on New Year’s Eve join Houndstooth for a 6-course tasting dinner to celebrate NYE. Click the image or link below to reserve your spot today. Tickets are $150/person. An additional wine pairing is available at checkout or can be added on the evening of the event.
URL:https://sunsetcoastmichigan.com/event/nye-tasting-menu-dinner-houndstooth/
LOCATION:Houndstooth Restaurant\, 132 Pipestone Avenue\, Benton Harbor\, MI\, 49022\, United States
CATEGORIES:Food + Drink Events
ATTACH;FMTTYPE=image/png:https://sunsetcoastmichigan.com/wp-content/uploads/2022/12/unnamed.png
ORGANIZER;CN="Houndstooth Restaurant":MAILTO:hello@eathoundstooth.com
GEO:42.1152582;-86.4551785
X-APPLE-STRUCTURED-LOCATION;VALUE=URI;X-ADDRESS=Houndstooth Restaurant 132 Pipestone Avenue Benton Harbor MI 49022 United States;X-APPLE-RADIUS=500;X-TITLE=132 Pipestone Avenue:geo:-86.4551785,42.1152582
END:VEVENT
END:VCALENDAR