BEGIN:VCALENDAR
VERSION:2.0
PRODID:-//Sunset Coast Michigan - ECPv6.15.20//NONSGML v1.0//EN
CALSCALE:GREGORIAN
METHOD:PUBLISH
X-ORIGINAL-URL:https://sunsetcoastmichigan.com
X-WR-CALDESC:Events for Sunset Coast Michigan
REFRESH-INTERVAL;VALUE=DURATION:PT1H
X-Robots-Tag:noindex
X-PUBLISHED-TTL:PT1H
BEGIN:VTIMEZONE
TZID:America/Detroit
BEGIN:DAYLIGHT
TZOFFSETFROM:-0500
TZOFFSETTO:-0400
TZNAME:EDT
DTSTART:20180311T070000
END:DAYLIGHT
BEGIN:STANDARD
TZOFFSETFROM:-0400
TZOFFSETTO:-0500
TZNAME:EST
DTSTART:20181104T060000
END:STANDARD
BEGIN:DAYLIGHT
TZOFFSETFROM:-0500
TZOFFSETTO:-0400
TZNAME:EDT
DTSTART:20190310T070000
END:DAYLIGHT
BEGIN:STANDARD
TZOFFSETFROM:-0400
TZOFFSETTO:-0500
TZNAME:EST
DTSTART:20191103T060000
END:STANDARD
BEGIN:DAYLIGHT
TZOFFSETFROM:-0500
TZOFFSETTO:-0400
TZNAME:EDT
DTSTART:20200308T070000
END:DAYLIGHT
BEGIN:STANDARD
TZOFFSETFROM:-0400
TZOFFSETTO:-0500
TZNAME:EST
DTSTART:20201101T060000
END:STANDARD
END:VTIMEZONE
BEGIN:VEVENT
DTSTART;TZID=America/Detroit:20190929T060000
DTEND;TZID=America/Detroit:20190929T190000
DTSTAMP:20260421T100451
CREATED:20190830T144651Z
LAST-MODIFIED:20190912T143846Z
UID:10007126-1569736800-1569783600@sunsetcoastmichigan.com
SUMMARY:Apple Cider Century
DESCRIPTION:Enjoy the sights and sounds of fall cycling in Harbor Country during the Apple Cider Century– this 15\, 25\, 37\, 50\, 62\, 75 or 100 mile bike ride happens every year on the last Sunday in September\, and is it ever popular– last year\, over 5\,500 cyclists participated! 2019 marks the 45th year for the Century\, and boasts an entire weekend of fun. Funds raised by this event help many organizations in the community\, such as the Backroads Bikeway trails\, the Bicycle Museum (at the Dewey Cannon Trading Company)\, the League of American Bicyclists\, Rails to Trails\, youth programs\, and more. Your $60 entry fee includes: Route Map with Route Markings\, SAG Wagons\, High Energy Refreshments\,  a Fanny Flag\, an ACC Mileage Certificate\, Spaghetti Dinner\, and Saturday Ice Cream Social.\nPlease pre-register\, as there will be no registration available the weekend of the ride. 
URL:https://sunsetcoastmichigan.com/event/apple-cider-century/
LOCATION:Three Oaks Elementary School\, 100 Oak Street\, Three Oaks\, MI\, 49128\, United States
CATEGORIES:Outdoorsy Events
ATTACH;FMTTYPE=image/jpeg:https://sunsetcoastmichigan.com/wp-content/uploads/2019/08/angieBike.jpg
GEO:41.7992476;-86.6079924
X-APPLE-STRUCTURED-LOCATION;VALUE=URI;X-ADDRESS=Three Oaks Elementary School 100 Oak Street Three Oaks MI 49128 United States;X-APPLE-RADIUS=500;X-TITLE=100 Oak Street:geo:-86.6079924,41.7992476
END:VEVENT
END:VCALENDAR