BEGIN:VCALENDAR
VERSION:2.0
PRODID:-//Sunset Coast Michigan - ECPv6.15.20//NONSGML v1.0//EN
CALSCALE:GREGORIAN
METHOD:PUBLISH
X-WR-CALNAME:Sunset Coast Michigan
X-ORIGINAL-URL:https://sunsetcoastmichigan.com
X-WR-CALDESC:Events for Sunset Coast Michigan
REFRESH-INTERVAL;VALUE=DURATION:PT1H
X-Robots-Tag:noindex
X-PUBLISHED-TTL:PT1H
BEGIN:VTIMEZONE
TZID:America/Detroit
BEGIN:DAYLIGHT
TZOFFSETFROM:-0500
TZOFFSETTO:-0400
TZNAME:EDT
DTSTART:20180311T070000
END:DAYLIGHT
BEGIN:STANDARD
TZOFFSETFROM:-0400
TZOFFSETTO:-0500
TZNAME:EST
DTSTART:20181104T060000
END:STANDARD
BEGIN:DAYLIGHT
TZOFFSETFROM:-0500
TZOFFSETTO:-0400
TZNAME:EDT
DTSTART:20190310T070000
END:DAYLIGHT
BEGIN:STANDARD
TZOFFSETFROM:-0400
TZOFFSETTO:-0500
TZNAME:EST
DTSTART:20191103T060000
END:STANDARD
BEGIN:DAYLIGHT
TZOFFSETFROM:-0500
TZOFFSETTO:-0400
TZNAME:EDT
DTSTART:20200308T070000
END:DAYLIGHT
BEGIN:STANDARD
TZOFFSETFROM:-0400
TZOFFSETTO:-0500
TZNAME:EST
DTSTART:20201101T060000
END:STANDARD
END:VTIMEZONE
BEGIN:VEVENT
DTSTART;TZID=America/Detroit:20190919T180000
DTEND;TZID=America/Detroit:20190919T200000
DTSTAMP:20260421T191241
CREATED:20190901T020242Z
LAST-MODIFIED:20190912T143812Z
UID:10008417-1568916000-1568923200@sunsetcoastmichigan.com
SUMMARY:4th Annual Hobbiton Beer Run
DESCRIPTION:WE’RE GOING ON AN ADVENTURE!\nAnd we’re going to raise funds for the Children’s Wing of the Benton Harbor Public Library while we go! Runners can run/walk the 5k course\, or run/walk the 2.5k course\, your choice! Both courses start at the Livery\, head to North Pier Brewing Company\, and return to the Livery. Your $15 entry fee includes: a commemorative pint glass\, a logo decal\, finisher medal/bottle opener\, and a personalized race bib. Celebrate Tolkien Week and Hobbit Day with the SWMI Racers!\nRegister soon\, as pre-registration ends on September 17th
URL:https://sunsetcoastmichigan.com/event/4th-annual-hobbiton-beer-run/
LOCATION:The Livery\, 190 5th street\, Benton Harbor\, MI\, 49022\, United States
CATEGORIES:Community Events
GEO:42.1181061;-86.4537164
X-APPLE-STRUCTURED-LOCATION;VALUE=URI;X-ADDRESS=The Livery 190 5th street Benton Harbor MI 49022 United States;X-APPLE-RADIUS=500;X-TITLE=190 5th street:geo:-86.4537164,42.1181061
END:VEVENT
END:VCALENDAR