BEGIN:VCALENDAR
VERSION:2.0
PRODID:-//Sunset Coast Michigan - ECPv6.15.20//NONSGML v1.0//EN
CALSCALE:GREGORIAN
METHOD:PUBLISH
X-ORIGINAL-URL:https://sunsetcoastmichigan.com
X-WR-CALDESC:Events for Sunset Coast Michigan
REFRESH-INTERVAL;VALUE=DURATION:PT1H
X-Robots-Tag:noindex
X-PUBLISHED-TTL:PT1H
BEGIN:VTIMEZONE
TZID:America/Detroit
BEGIN:DAYLIGHT
TZOFFSETFROM:-0500
TZOFFSETTO:-0400
TZNAME:EDT
DTSTART:20180311T070000
END:DAYLIGHT
BEGIN:STANDARD
TZOFFSETFROM:-0400
TZOFFSETTO:-0500
TZNAME:EST
DTSTART:20181104T060000
END:STANDARD
BEGIN:DAYLIGHT
TZOFFSETFROM:-0500
TZOFFSETTO:-0400
TZNAME:EDT
DTSTART:20190310T070000
END:DAYLIGHT
BEGIN:STANDARD
TZOFFSETFROM:-0400
TZOFFSETTO:-0500
TZNAME:EST
DTSTART:20191103T060000
END:STANDARD
BEGIN:DAYLIGHT
TZOFFSETFROM:-0500
TZOFFSETTO:-0400
TZNAME:EDT
DTSTART:20200308T070000
END:DAYLIGHT
BEGIN:STANDARD
TZOFFSETFROM:-0400
TZOFFSETTO:-0500
TZNAME:EST
DTSTART:20201101T060000
END:STANDARD
BEGIN:DAYLIGHT
TZOFFSETFROM:-0500
TZOFFSETTO:-0400
TZNAME:EDT
DTSTART:20210314T070000
END:DAYLIGHT
BEGIN:STANDARD
TZOFFSETFROM:-0400
TZOFFSETTO:-0500
TZNAME:EST
DTSTART:20211107T060000
END:STANDARD
BEGIN:DAYLIGHT
TZOFFSETFROM:-0500
TZOFFSETTO:-0400
TZNAME:EDT
DTSTART:20220313T070000
END:DAYLIGHT
BEGIN:STANDARD
TZOFFSETFROM:-0400
TZOFFSETTO:-0500
TZNAME:EST
DTSTART:20221106T060000
END:STANDARD
BEGIN:DAYLIGHT
TZOFFSETFROM:-0500
TZOFFSETTO:-0400
TZNAME:EDT
DTSTART:20230312T070000
END:DAYLIGHT
BEGIN:STANDARD
TZOFFSETFROM:-0400
TZOFFSETTO:-0500
TZNAME:EST
DTSTART:20231105T060000
END:STANDARD
END:VTIMEZONE
BEGIN:VEVENT
DTSTART;TZID=America/Detroit:20221029T140000
DTEND;TZID=America/Detroit:20221029T180000
DTSTAMP:20260421T095311
CREATED:20221009T185341Z
LAST-MODIFIED:20221009T185341Z
UID:10008954-1667052000-1667066400@sunsetcoastmichigan.com
SUMMARY:Terror at Tabor - Halloween Dance Party
DESCRIPTION:Terror at Tabor is turning back the clock to the glitz and glamour of the 1920s for an unforgettable Spooky Speakeasy Soirée. We invite you to join us for a glass or two of giggle water while we Foxtrot the night away in the vineyard. After all\, a little party never killed nobody… \nWho’s ready for a spooktacular night at Tabor Hill? We are throwing our second ever\, adults-only\, Halloween costume/dance party at the Tabor Hill Estate Tent! Enter Terror at Tabor…if you dare…. \nDate: Saturday\, October 29\nLocation: Tabor Hill Private Event Tent\nEvent Time: 6 to 10 pm EST\nTickets: $20/person + includes one free drink!\nAdditional drink tickets are available for purchase!\n\nIf you’ve got it\, haunt it! It’s a Halloween party….Costumes are strongly encouraged! Wear your best Halloween costume. Dress up and enter the costume contest for your chance to win the grand prize. More information to come soon!\n\nTo give all our guests the opportunity to celebrate without having to worry about little eyes and ears\, this will be a 21+ event.\n\nPurchase your Terror at Tabor tickets today: https://moerschhg.vinesos.com/th-halloween \nAdmission: $20/person + includes one free drink!
URL:https://sunsetcoastmichigan.com/event/terror-at-tabor-halloween-dance-party/
LOCATION:Tabor Hill Winery & Restaurant\, 185 Mount Tabor Rd\, Buchanan\, MI\, 49107\, United States
CATEGORIES:Food + Drink Events
ATTACH;FMTTYPE=image/jpeg:https://sunsetcoastmichigan.com/wp-content/uploads/2022/10/YXNzZXRzL2V2ZW50cy90ZXJyb3ItYXQtdGFib3Jfc3BlYWtlYXN5XzIwMjJfMTkyMHg2MDAtKDEpLmpwZw.jpeg
GEO:41.9146496;-86.4526889
X-APPLE-STRUCTURED-LOCATION;VALUE=URI;X-ADDRESS=Tabor Hill Winery & Restaurant 185 Mount Tabor Rd Buchanan MI 49107 United States;X-APPLE-RADIUS=500;X-TITLE=185 Mount Tabor Rd:geo:-86.4526889,41.9146496
END:VEVENT
BEGIN:VEVENT
DTSTART;TZID=America/Detroit:20191023T190000
DTEND;TZID=America/Detroit:20191023T190000
DTSTAMP:20260421T095311
CREATED:20190901T000537Z
LAST-MODIFIED:20190924T223250Z
UID:10008412-1571857200-1571857200@sunsetcoastmichigan.com
SUMMARY:Wine & Design at Tabor Hill
DESCRIPTION:Join Flowers By Anna at Tabor Hill Winery\, as we learn how to design our very own Pumpkin Floral Centerpieces. Choose from an entire array of Michigan plant life to decorate your pumpkin — Leaves! Flowers! Wheat! and more!\nGrab a drink and enjoy creative hour. Be amazed with what you can do!\nPrice of your ticket includes all pumpkin decorating supplies and a 20% off Your Purchase coupon at Flowers By Anna. 
URL:https://sunsetcoastmichigan.com/event/wine-design/
LOCATION:Tabor Hill Winery & Restaurant\, 185 Mount Tabor Rd\, Buchanan\, MI\, 49107\, United States
CATEGORIES:Community Events
ATTACH;FMTTYPE=image/jpeg:https://sunsetcoastmichigan.com/wp-content/uploads/2019/08/wine.jpg
GEO:41.9146496;-86.4526889
X-APPLE-STRUCTURED-LOCATION;VALUE=URI;X-ADDRESS=Tabor Hill Winery & Restaurant 185 Mount Tabor Rd Buchanan MI 49107 United States;X-APPLE-RADIUS=500;X-TITLE=185 Mount Tabor Rd:geo:-86.4526889,41.9146496
END:VEVENT
END:VCALENDAR