BEGIN:VCALENDAR
VERSION:2.0
PRODID:-//Sunset Coast Michigan - ECPv6.15.20//NONSGML v1.0//EN
CALSCALE:GREGORIAN
METHOD:PUBLISH
X-WR-CALNAME:Sunset Coast Michigan
X-ORIGINAL-URL:https://sunsetcoastmichigan.com
X-WR-CALDESC:Events for Sunset Coast Michigan
REFRESH-INTERVAL;VALUE=DURATION:PT1H
X-Robots-Tag:noindex
X-PUBLISHED-TTL:PT1H
BEGIN:VTIMEZONE
TZID:America/Detroit
BEGIN:DAYLIGHT
TZOFFSETFROM:-0500
TZOFFSETTO:-0400
TZNAME:EDT
DTSTART:20230312T070000
END:DAYLIGHT
BEGIN:STANDARD
TZOFFSETFROM:-0400
TZOFFSETTO:-0500
TZNAME:EST
DTSTART:20231105T060000
END:STANDARD
BEGIN:DAYLIGHT
TZOFFSETFROM:-0500
TZOFFSETTO:-0400
TZNAME:EDT
DTSTART:20240310T070000
END:DAYLIGHT
BEGIN:STANDARD
TZOFFSETFROM:-0400
TZOFFSETTO:-0500
TZNAME:EST
DTSTART:20241103T060000
END:STANDARD
BEGIN:DAYLIGHT
TZOFFSETFROM:-0500
TZOFFSETTO:-0400
TZNAME:EDT
DTSTART:20250309T070000
END:DAYLIGHT
BEGIN:STANDARD
TZOFFSETFROM:-0400
TZOFFSETTO:-0500
TZNAME:EST
DTSTART:20251102T060000
END:STANDARD
END:VTIMEZONE
BEGIN:VEVENT
DTSTART;TZID=America/Detroit:20240922T190000
DTEND;TZID=America/Detroit:20240922T210000
DTSTAMP:20260423T120408
CREATED:20240918T061246Z
LAST-MODIFIED:20240922T064241Z
UID:10009505-1727031600-1727038800@sunsetcoastmichigan.com
SUMMARY:Open Mic at the Acorn Theater
DESCRIPTION:One of our members\, Denis Ryan will be playing his guitar at the Acorn Theater Sun evening at 6pm. Denis is also a very talented song writer. This is an open mic night\, admission is free\, donations encouraged. \nHere is the link with the info\nhttps://www.acornlive.org/events/open-mic-9-22-24/ \nEnjoy an evening with live music and support one of our members.
URL:https://sunsetcoastmichigan.com/event/open-mic-at-the-acorn-theater/
LOCATION:Acorn Theater\, 107 Generations Drive (off N. Elm St.)\, Three Oaks\, MI\, 49128\, United States
CATEGORIES:Community Events
ATTACH;FMTTYPE=image/jpeg:https://sunsetcoastmichigan.com/wp-content/uploads/2024/09/1024x576-7pxqAX.tmp_.jpg
GEO:41.80478;-86.61039
X-APPLE-STRUCTURED-LOCATION;VALUE=URI;X-ADDRESS=Acorn Theater 107 Generations Drive (off N. Elm St.) Three Oaks MI 49128 United States;X-APPLE-RADIUS=500;X-TITLE=107 Generations Drive (off N. Elm St.):geo:-86.61039,41.80478
END:VEVENT
END:VCALENDAR